BEGIN:VCALENDAR
VERSION:2.0
PRODID:-//Mr. Ernest M. Lee - ECPv5.8.1//NONSGML v1.0//EN
CALSCALE:GREGORIAN
METHOD:PUBLISH
X-WR-CALNAME:Mr. Ernest M. Lee
X-ORIGINAL-URL:https://www.ernestleeart.com
X-WR-CALDESC:Events for Mr. Ernest M. Lee
BEGIN:VTIMEZONE
TZID:America/New_York
BEGIN:DAYLIGHT
TZOFFSETFROM:-0500
TZOFFSETTO:-0400
TZNAME:EDT
DTSTART:20250309T070000
END:DAYLIGHT
BEGIN:STANDARD
TZOFFSETFROM:-0400
TZOFFSETTO:-0500
TZNAME:EST
DTSTART:20251102T060000
END:STANDARD
END:VTIMEZONE
BEGIN:VEVENT
DTSTART;TZID=America/New_York:20250912T150000
DTEND;TZID=America/New_York:20250912T160000
DTSTAMP:20260425T150557
CREATED:20250822T144206Z
LAST-MODIFIED:20250822T150105Z
UID:1654-1757689200-1757692800@www.ernestleeart.com
SUMMARY:White Springs Public Library Kids Art Class Observing Mr. Ernest M. Lee's works
DESCRIPTION:Kids Art Class on September 12th at 3:00PM introduces children to the world of art through various mediums\, guided self-expression\, and learning about art as a subject and its history. September’s art class will focus on appreciating folk art and replicating its features with acrylic paints by observing Mr. Ernest M. Lee’s works.
URL:https://www.ernestleeart.com/event/white-springs-public-library-kids-art-class-observing-mr-ernest-m-lees-works/
LOCATION:White Springs Public Library\, 16403 Jewett St.\, White Springs\, FL\, 32096\, United States
END:VEVENT
END:VCALENDAR