BEGIN:VCALENDAR
VERSION:2.0
PRODID:-//Mr. Ernest M. Lee - ECPv5.8.1//NONSGML v1.0//EN
CALSCALE:GREGORIAN
METHOD:PUBLISH
X-WR-CALNAME:Mr. Ernest M. Lee
X-ORIGINAL-URL:https://www.ernestleeart.com
X-WR-CALDESC:Events for Mr. Ernest M. Lee
BEGIN:VTIMEZONE
TZID:America/New_York
BEGIN:DAYLIGHT
TZOFFSETFROM:-0500
TZOFFSETTO:-0400
TZNAME:EDT
DTSTART:20240310T070000
END:DAYLIGHT
BEGIN:STANDARD
TZOFFSETFROM:-0400
TZOFFSETTO:-0500
TZNAME:EST
DTSTART:20241103T060000
END:STANDARD
END:VTIMEZONE
BEGIN:VEVENT
DTSTART;TZID=America/New_York:20241130T100000
DTEND;TZID=America/New_York:20241201T170000
DTSTAMP:20260425T163214
CREATED:20240824T055435Z
LAST-MODIFIED:20240825T140518Z
UID:1471-1732960800-1733072400@www.ernestleeart.com
SUMMARY:UF Craft Festival 2024 @ Stephen C. O'Connell Center
DESCRIPTION:Visit the event webpage and print a valid coupon to present in person or use coupon code “ONEOFF” online to get $1 off admission! \nGeneral Public:\n$6 at the door\n$5 with coupon\nChildren 13 & under FREE\nMilitary with ID FREE \nUF Students:\n$4 at the door\n$3 with coupon \nOn Saturday and Sunday of the event\, ALL parking restrictions will be lifted in the flat lot and parking garage adjacent to the arena. See you there!
URL:https://www.ernestleeart.com/event/uf-craft-festival-2024-stephen-c-oconnell-center/
LOCATION:Stephen C. O’Connell Center\, 250 Gale Lemerand Dr\, Gainesville\, FL\, 32611\, United States
END:VEVENT
END:VCALENDAR