BEGIN:VCALENDAR
VERSION:2.0
PRODID:-//Mr. Ernest M. Lee - ECPv5.8.1//NONSGML v1.0//EN
CALSCALE:GREGORIAN
METHOD:PUBLISH
X-WR-CALNAME:Mr. Ernest M. Lee
X-ORIGINAL-URL:https://www.ernestleeart.com
X-WR-CALDESC:Events for Mr. Ernest M. Lee
BEGIN:VTIMEZONE
TZID:America/New_York
BEGIN:DAYLIGHT
TZOFFSETFROM:-0500
TZOFFSETTO:-0400
TZNAME:EDT
DTSTART:20250309T070000
END:DAYLIGHT
BEGIN:STANDARD
TZOFFSETFROM:-0400
TZOFFSETTO:-0500
TZNAME:EST
DTSTART:20251102T060000
END:STANDARD
END:VTIMEZONE
BEGIN:VEVENT
DTSTART;TZID=America/New_York:20250301T090000
DTEND;TZID=America/New_York:20250302T170000
DTSTAMP:20260425T144721
CREATED:20250121T230013Z
LAST-MODIFIED:20250121T230044Z
UID:1551-1740819600-1740934800@www.ernestleeart.com
SUMMARY:Thornebrook 2025 Spring Arts Festival
DESCRIPTION:Mark your calendars for the fourth annual Thornebrook Spring Arts Festival! The park-like setting of the Shoppes at Thornebrook will be filled with talented artists on March 1-2. Look for Mrs. Lee selling prints\, notecards and other merchandise by Mr. Ernest M. Lee.
URL:https://www.ernestleeart.com/event/thornebrook-2025-spring-arts-festival/
LOCATION:Shoppes at Thornebrook\, 2441 NW 43rd St\, Gainesville\, 32606\, United States
END:VEVENT
END:VCALENDAR