BEGIN:VCALENDAR
VERSION:2.0
PRODID:-//Mr. Ernest M. Lee - ECPv5.8.1//NONSGML v1.0//EN
CALSCALE:GREGORIAN
METHOD:PUBLISH
X-WR-CALNAME:Mr. Ernest M. Lee
X-ORIGINAL-URL:https://www.ernestleeart.com
X-WR-CALDESC:Events for Mr. Ernest M. Lee
BEGIN:VTIMEZONE
TZID:America/New_York
BEGIN:DAYLIGHT
TZOFFSETFROM:-0500
TZOFFSETTO:-0400
TZNAME:EDT
DTSTART:20250309T070000
END:DAYLIGHT
BEGIN:STANDARD
TZOFFSETFROM:-0400
TZOFFSETTO:-0500
TZNAME:EST
DTSTART:20251102T060000
END:STANDARD
END:VTIMEZONE
BEGIN:VEVENT
DTSTART;TZID=America/New_York:20250804T090000
DTEND;TZID=America/New_York:20251001T170000
DTSTAMP:20260425T144725
CREATED:20250716T211055Z
LAST-MODIFIED:20250806T135703Z
UID:1619-1754298000-1759338000@www.ernestleeart.com
SUMMARY:White Springs Library hosts "The Best is Yet to Come" exhibit by Ernest M. Lee
DESCRIPTION:The White Springs Library is hosting artist Ernest M. Lee’s “The Best is Yet to Come” exhibit through Oct. 1. The exhibit is free and open to the public and visitors may also purchase prints and notecards of Mr. Lee’s work. The library is located at 16403 Jewett St.\, White Springs\, FL 32096. Hours are Monday\, Wednesday\, Thursday and Friday from 9 a.m. to 5 p.m.\, and Tuesday from 9 a.m. to 7 p.m.  It is closed on Saturday and Sunday\, and each weekday from noon-1 p.m. for lunch.
URL:https://www.ernestleeart.com/event/see-ernests-art-on-display-in-the-white-springs-library/
LOCATION:White Springs Public Library\, 16403 Jewett St.\, White Springs\, FL\, 32096\, United States
END:VEVENT
END:VCALENDAR