BEGIN:VCALENDAR
VERSION:2.0
PRODID:-//Mr. Ernest M. Lee - ECPv5.8.1//NONSGML v1.0//EN
CALSCALE:GREGORIAN
METHOD:PUBLISH
X-WR-CALNAME:Mr. Ernest M. Lee
X-ORIGINAL-URL:https://www.ernestleeart.com
X-WR-CALDESC:Events for Mr. Ernest M. Lee
BEGIN:VTIMEZONE
TZID:America/New_York
BEGIN:DAYLIGHT
TZOFFSETFROM:-0500
TZOFFSETTO:-0400
TZNAME:EDT
DTSTART:20240310T070000
END:DAYLIGHT
BEGIN:STANDARD
TZOFFSETFROM:-0400
TZOFFSETTO:-0500
TZNAME:EST
DTSTART:20241103T060000
END:STANDARD
END:VTIMEZONE
BEGIN:VEVENT
DTSTART;TZID=America/New_York:20240413T100000
DTEND;TZID=America/New_York:20240414T160000
DTSTAMP:20260425T181259
CREATED:20240127T175040Z
LAST-MODIFIED:20240127T175138Z
UID:1342-1713002400-1713110400@www.ernestleeart.com
SUMMARY:Santa Fe College Spring Arts Festival
DESCRIPTION:Santa Fe College is excited to host its 52nd Annual Spring Arts Festival on April 13-14\, 2024. Look for Mrs. Lee selling paintings\, prints\, notecards and other items by Ernest M. Lee. \nThe purpose of the Spring Arts Festival is to illuminate\, inspire and enrich lives through diverse expressions of the arts as we celebrate the historic festival at the Santa Fe northwest campus. The festival will spotlight stunning artists and artwork\, foster emerging talent and inspire future generations.
URL:https://www.ernestleeart.com/event/santa-fe-college-spring-arts-festival-2/
LOCATION:Santa Fe College\, 3000 NW 83rd Street\, Gainesville\, FL\, 32606\, United States
END:VEVENT
END:VCALENDAR