BEGIN:VCALENDAR
VERSION:2.0
PRODID:-//Mr. Ernest M. Lee - ECPv5.8.1//NONSGML v1.0//EN
CALSCALE:GREGORIAN
METHOD:PUBLISH
X-WR-CALNAME:Mr. Ernest M. Lee
X-ORIGINAL-URL:https://www.ernestleeart.com
X-WR-CALDESC:Events for Mr. Ernest M. Lee
BEGIN:VTIMEZONE
TZID:America/New_York
BEGIN:DAYLIGHT
TZOFFSETFROM:-0500
TZOFFSETTO:-0400
TZNAME:EDT
DTSTART:20250309T070000
END:DAYLIGHT
BEGIN:STANDARD
TZOFFSETFROM:-0400
TZOFFSETTO:-0500
TZNAME:EST
DTSTART:20251102T060000
END:STANDARD
END:VTIMEZONE
BEGIN:VEVENT
DTSTART;TZID=America/New_York:20251101T080000
DTEND;TZID=America/New_York:20251125T170000
DTSTAMP:20260425T131029
CREATED:20251027T235629Z
LAST-MODIFIED:20251113T133633Z
UID:1710-1761984000-1764090000@www.ernestleeart.com
SUMMARY:Ernest M Lee Art Exhibit - Live Oak Public Library
DESCRIPTION:Mr. Ernest M. Lee Art Exhibit at the Live Oak Public Library \nWe are excited to continue our partnership with the Suwannee River Regional Library System in sharing the art and legacy of Mr. Ernest M. Lee with the community. \nA special collection of Mr. Lee’s work will be on display and available for purchase at the Live Oak Public Library in Live Oak\, Florida\, from November 1 through November 25. \nJoin us in celebrating the creativity\, history\, and enduring spirit of Mr. Ernest M. Lee. \nGloria Lee will be presenting on Nov 24th and 11 am
URL:https://www.ernestleeart.com/event/remembering-folk-artist-mr-ernest-m-lee-2/
LOCATION:Live Oak Public Library\, Live Oak Public Library\, Live Oak\, FL\, 32064
END:VEVENT
END:VCALENDAR