BEGIN:VCALENDAR
VERSION:2.0
PRODID:-//Mr. Ernest M. Lee - ECPv5.8.1//NONSGML v1.0//EN
CALSCALE:GREGORIAN
METHOD:PUBLISH
X-WR-CALNAME:Mr. Ernest M. Lee
X-ORIGINAL-URL:https://www.ernestleeart.com
X-WR-CALDESC:Events for Mr. Ernest M. Lee
BEGIN:VTIMEZONE
TZID:America/New_York
BEGIN:DAYLIGHT
TZOFFSETFROM:-0500
TZOFFSETTO:-0400
TZNAME:EDT
DTSTART:20220313T070000
END:DAYLIGHT
BEGIN:STANDARD
TZOFFSETFROM:-0400
TZOFFSETTO:-0500
TZNAME:EST
DTSTART:20221106T060000
END:STANDARD
END:VTIMEZONE
BEGIN:VEVENT
DTSTART;TZID=America/New_York:20221008T170000
DTEND;TZID=America/New_York:20221008T190000
DTSTAMP:20260425T211715
CREATED:20220908T143340Z
LAST-MODIFIED:20220908T143437Z
UID:1116-1665248400-1665255600@www.ernestleeart.com
SUMMARY:Opening Reception - Remembering Folk Artist Mr. Ernest M. Lee
DESCRIPTION:Join us at the Cedar Key Arts Center for the opening reception of this special exhibit honoring Mr. Lee and his art.
URL:https://www.ernestleeart.com/event/opening-reception-remembering-folk-artist-mr-ernest-m-lee/
LOCATION:Cedar Key Arts Center\, 457 2nd Street\, Cedar Key\, FL\, 32625\, United States
END:VEVENT
END:VCALENDAR