BEGIN:VCALENDAR
VERSION:2.0
PRODID:-//Mr. Ernest M. Lee - ECPv5.8.1//NONSGML v1.0//EN
CALSCALE:GREGORIAN
METHOD:PUBLISH
X-WR-CALNAME:Mr. Ernest M. Lee
X-ORIGINAL-URL:https://www.ernestleeart.com
X-WR-CALDESC:Events for Mr. Ernest M. Lee
BEGIN:VTIMEZONE
TZID:America/New_York
BEGIN:DAYLIGHT
TZOFFSETFROM:-0500
TZOFFSETTO:-0400
TZNAME:EDT
DTSTART:20220313T070000
END:DAYLIGHT
BEGIN:STANDARD
TZOFFSETFROM:-0400
TZOFFSETTO:-0500
TZNAME:EST
DTSTART:20221106T060000
END:STANDARD
END:VTIMEZONE
BEGIN:VEVENT
DTSTART;TZID=America/New_York:20220513T180000
DTEND;TZID=America/New_York:20220513T210000
DTSTAMP:20260425T223336
CREATED:20220317T110237Z
LAST-MODIFIED:20220322T130348Z
UID:1011-1652464800-1652475600@www.ernestleeart.com
SUMMARY:Opening reception for "The Best Is Yet To Come: The Works of Mr. Ernest M. Lee" exhibit at Santa Fe College Gallery
DESCRIPTION:This event celebrates the opening of a new gallery exhibit featuring the life and work of artist Ernest Lee\, on display May 16-June 17\, 2022. The gallery is open from 10 a.m. – 4 p.m.  Monday through Friday. Admission is free. \nSanta Fe College Gallery\nBuilding M-160\n3000 NW 83rd St.\nGainesville\, FL 32606 \n 
URL:https://www.ernestleeart.com/event/opening-reception-for-the-best-is-yet-to-come-exhibit-at-santa-fe-college-gallery/
LOCATION:Santa Fe College\, 3000 NW 83rd Street\, Gainesville\, FL\, 32606\, United States
END:VEVENT
END:VCALENDAR