BEGIN:VCALENDAR
VERSION:2.0
PRODID:-//Mr. Ernest M. Lee - ECPv5.8.1//NONSGML v1.0//EN
CALSCALE:GREGORIAN
METHOD:PUBLISH
X-WR-CALNAME:Mr. Ernest M. Lee
X-ORIGINAL-URL:https://www.ernestleeart.com
X-WR-CALDESC:Events for Mr. Ernest M. Lee
BEGIN:VTIMEZONE
TZID:America/New_York
BEGIN:DAYLIGHT
TZOFFSETFROM:-0500
TZOFFSETTO:-0400
TZNAME:EDT
DTSTART:20220313T070000
END:DAYLIGHT
BEGIN:STANDARD
TZOFFSETFROM:-0400
TZOFFSETTO:-0500
TZNAME:EST
DTSTART:20221106T060000
END:STANDARD
END:VTIMEZONE
BEGIN:VEVENT
DTSTART;TZID=America/New_York:20220611T110000
DTEND;TZID=America/New_York:20220611T170000
DTSTAMP:20260425T223744
CREATED:20220324T124937Z
LAST-MODIFIED:20220414T145405Z
UID:1036-1654945200-1654966800@www.ernestleeart.com
SUMMARY:OneHope wine fundraiser in the memory of Ernest M. Lee
DESCRIPTION:We are celebrating Ernest’s art and raising funds for an Alachua County Public Schools scholarship of $1\,000 in his name. Please support this tasting to keep his memory alive and help us nourish the future for generations to come in his name. \nSponsored in part by Thrivent Action Teams.
URL:https://www.ernestleeart.com/event/onehope-wine-fundraiser-in-the-memory-of-ernest-m-lee/
LOCATION:One Hope Wine fundraiser in Newberry\, Fla.\, 304 SW 174th St\, Newberry\, FL\, 32669
END:VEVENT
END:VCALENDAR