BEGIN:VCALENDAR
VERSION:2.0
PRODID:-//Mr. Ernest M. Lee - ECPv5.8.1//NONSGML v1.0//EN
CALSCALE:GREGORIAN
METHOD:PUBLISH
X-WR-CALNAME:Mr. Ernest M. Lee
X-ORIGINAL-URL:https://www.ernestleeart.com
X-WR-CALDESC:Events for Mr. Ernest M. Lee
BEGIN:VTIMEZONE
TZID:America/New_York
BEGIN:DAYLIGHT
TZOFFSETFROM:-0500
TZOFFSETTO:-0400
TZNAME:EDT
DTSTART:20210314T070000
END:DAYLIGHT
BEGIN:STANDARD
TZOFFSETFROM:-0400
TZOFFSETTO:-0500
TZNAME:EST
DTSTART:20211107T060000
END:STANDARD
END:VTIMEZONE
BEGIN:VEVENT
DTSTART;TZID=America/New_York:20210424T090000
DTEND;TZID=America/New_York:20210425T170000
DTSTAMP:20260426T001341
CREATED:20210421T200142Z
LAST-MODIFIED:20210421T200300Z
UID:739-1619254800-1619370000@www.ernestleeart.com
SUMMARY:Mount Dora Blueberry Festival 2021
DESCRIPTION:The Mount Dora Blueberry Festival is destined to become the biggest and the best celebration of Florida’s newest agricultural crop. This is worthy of promotion and celebration. Where better to celebrate than Mount Dora\, Florida\, The Festival City. Blueberries…The new citrus.
URL:https://www.ernestleeart.com/event/mount-dora-blueberry-festival-2021/
LOCATION:Donnelly Park\, 539 N. Donnelly Street\, Mt. Dora\, FL\, 32757\, United States
ATTACH;FMTTYPE=image/jpeg:https://www.ernestleeart.com/wp-content/uploads/2021/04/pie-eating.jpg
END:VEVENT
END:VCALENDAR