BEGIN:VCALENDAR
VERSION:2.0
PRODID:-//Mr. Ernest M. Lee - ECPv5.8.1//NONSGML v1.0//EN
CALSCALE:GREGORIAN
METHOD:PUBLISH
X-WR-CALNAME:Mr. Ernest M. Lee
X-ORIGINAL-URL:https://www.ernestleeart.com
X-WR-CALDESC:Events for Mr. Ernest M. Lee
BEGIN:VTIMEZONE
TZID:America/New_York
BEGIN:DAYLIGHT
TZOFFSETFROM:-0500
TZOFFSETTO:-0400
TZNAME:EDT
DTSTART:20240310T070000
END:DAYLIGHT
BEGIN:STANDARD
TZOFFSETFROM:-0400
TZOFFSETTO:-0500
TZNAME:EST
DTSTART:20241103T060000
END:STANDARD
END:VTIMEZONE
BEGIN:VEVENT
DTSTART;TZID=America/New_York:20240210T090000
DTEND;TZID=America/New_York:20240210T150000
DTSTAMP:20260425T181506
CREATED:20240127T183038Z
LAST-MODIFIED:20240127T192916Z
UID:1351-1707555600-1707577200@www.ernestleeart.com
SUMMARY:Hastings Pop-Up Market and Boulevard Car Show
DESCRIPTION:Experience a journey through automotive history at the Hastings Boulevard Car Show and Vintage Market\, a spectacular event set to dazzle on Feb. 10th. Nestled in the heart of Hastings\, this vibrant gathering brings together a stunning array of classic and vintage cars\, showcasing the evolution of automotive design and craftsmanship. \nMrs. Lee will be selling paintings\, prints\, notecards and other items by artist Ernest M. Lee.
URL:https://www.ernestleeart.com/event/hastings-pop-up-market-and-boulevard-car-show/
END:VEVENT
END:VCALENDAR