BEGIN:VCALENDAR
VERSION:2.0
PRODID:-//Mr. Ernest M. Lee - ECPv5.8.1//NONSGML v1.0//EN
CALSCALE:GREGORIAN
METHOD:PUBLISH
X-WR-CALNAME:Mr. Ernest M. Lee
X-ORIGINAL-URL:https://www.ernestleeart.com
X-WR-CALDESC:Events for Mr. Ernest M. Lee
BEGIN:VTIMEZONE
TZID:America/New_York
BEGIN:DAYLIGHT
TZOFFSETFROM:-0500
TZOFFSETTO:-0400
TZNAME:EDT
DTSTART:20240310T070000
END:DAYLIGHT
BEGIN:STANDARD
TZOFFSETFROM:-0400
TZOFFSETTO:-0500
TZNAME:EST
DTSTART:20241103T060000
END:STANDARD
END:VTIMEZONE
BEGIN:VEVENT
DTSTART;TZID=America/New_York:20240323T100000
DTEND;TZID=America/New_York:20240323T150000
DTSTAMP:20260425T181345
CREATED:20240127T142747Z
LAST-MODIFIED:20240127T144745Z
UID:1327-1711188000-1711206000@www.ernestleeart.com
SUMMARY:Gainesville Airport Gator Fly In & Armed Services Appreciation Day
DESCRIPTION:Look for Mrs. Lee selling Ernest M. Lee’s paintings\, prints\, notecards and other items during this Fly In event with military and civilian aircraft\, food trucks\, music\, rides\, vendors and classic cars. An opening ceremony will be held at 11 a.m. and this year’s event celebrates Women in Aviation.
URL:https://www.ernestleeart.com/event/gainesville-airport-gator-fly-in-armed-services-appreciation-day/
LOCATION:University Air Center at Gainesvile Regional Airport\, 4701 NE 40th Ter.\, Gainesville\, FL\, 32609\, United States
ORGANIZER;CN="University%20Air%20Center%20at%20Gainesville%20Regional%20Airport":MAILTO:paml@universityaircenter.com
END:VEVENT
END:VCALENDAR