BEGIN:VCALENDAR
VERSION:2.0
PRODID:-//Mr. Ernest M. Lee - ECPv5.8.1//NONSGML v1.0//EN
CALSCALE:GREGORIAN
METHOD:PUBLISH
X-WR-CALNAME:Mr. Ernest M. Lee
X-ORIGINAL-URL:https://www.ernestleeart.com
X-WR-CALDESC:Events for Mr. Ernest M. Lee
BEGIN:VTIMEZONE
TZID:America/New_York
BEGIN:DAYLIGHT
TZOFFSETFROM:-0500
TZOFFSETTO:-0400
TZNAME:EDT
DTSTART:20220313T070000
END:DAYLIGHT
BEGIN:STANDARD
TZOFFSETFROM:-0400
TZOFFSETTO:-0500
TZNAME:EST
DTSTART:20221106T060000
END:STANDARD
END:VTIMEZONE
BEGIN:VEVENT
DTSTART;TZID=America/New_York:20221015T100000
DTEND;TZID=America/New_York:20221016T160000
DTSTAMP:20260425T211447
CREATED:20221011T063521Z
LAST-MODIFIED:20221011T064826Z
UID:1131-1665828000-1665936000@www.ernestleeart.com
SUMMARY:52nd Annual Cedar Key Seafood Festival
DESCRIPTION:Visit the Cedar Key Arts Center during the Seafood Festival to purchase Ernest’s prints\, notecards and original paintings upstairs in the gallery.
URL:https://www.ernestleeart.com/event/52nd-annual-cedar-key-seafood-festival/
LOCATION:Cedar Key City Park\, 188 2nd St.\, Cedar Key\, FL\, 32625\, United States
END:VEVENT
END:VCALENDAR