BEGIN:VCALENDAR
VERSION:2.0
PRODID:-//Mr. Ernest M. Lee - ECPv5.8.1//NONSGML v1.0//EN
CALSCALE:GREGORIAN
METHOD:PUBLISH
X-WR-CALNAME:Mr. Ernest M. Lee
X-ORIGINAL-URL:https://www.ernestleeart.com
X-WR-CALDESC:Events for Mr. Ernest M. Lee
BEGIN:VTIMEZONE
TZID:America/New_York
BEGIN:DAYLIGHT
TZOFFSETFROM:-0500
TZOFFSETTO:-0400
TZNAME:EDT
DTSTART:20250309T070000
END:DAYLIGHT
BEGIN:STANDARD
TZOFFSETFROM:-0400
TZOFFSETTO:-0500
TZNAME:EST
DTSTART:20251102T060000
END:STANDARD
END:VTIMEZONE
BEGIN:VEVENT
DTSTART;TZID=America/New_York:20251101T090000
DTEND;TZID=America/New_York:20251102T170000
DTSTAMP:20260425T130917
CREATED:20250716T204855Z
LAST-MODIFIED:20250716T210807Z
UID:1614-1761987600-1762102800@www.ernestleeart.com
SUMMARY:50th Micanopy Fall Festival
DESCRIPTION:Mark your calendars for 2025! Join us on Saturday\, Nov. 1\, 9 a.m. – 5 p.m. and Sunday\, Nov. 2\, 9 a.m. – 4 p.m. Look for Mrs. Lee selling prints\, notecards and other art by Mr. Ernest M. Lee.
URL:https://www.ernestleeart.com/event/50th-micanopy-fall-festival/
LOCATION:Downtown Micanopy\, 202 NE Cholokka Blvd\, Micanopy\, FL\, 32667
END:VEVENT
END:VCALENDAR