BEGIN:VCALENDAR
VERSION:2.0
PRODID:-//Mr. Ernest M. Lee - ECPv5.8.1//NONSGML v1.0//EN
CALSCALE:GREGORIAN
METHOD:PUBLISH
X-WR-CALNAME:Mr. Ernest M. Lee
X-ORIGINAL-URL:https://www.ernestleeart.com
X-WR-CALDESC:Events for Mr. Ernest M. Lee
BEGIN:VTIMEZONE
TZID:America/New_York
BEGIN:DAYLIGHT
TZOFFSETFROM:-0500
TZOFFSETTO:-0400
TZNAME:EDT
DTSTART:20210314T070000
END:DAYLIGHT
BEGIN:STANDARD
TZOFFSETFROM:-0400
TZOFFSETTO:-0500
TZNAME:EST
DTSTART:20211107T060000
END:STANDARD
END:VTIMEZONE
BEGIN:VEVENT
DTSTART;TZID=America/New_York:20211016T100000
DTEND;TZID=America/New_York:20211017T170000
DTSTAMP:20260426T000912
CREATED:20210922T145736Z
LAST-MODIFIED:20210922T145736Z
UID:782-1634378400-1634490000@www.ernestleeart.com
SUMMARY:36th Annual Art Festival at Thornebrook
DESCRIPTION:The Thornebrook annual art festival is back! Fine artists and craftsmen will be exhibiting throughout the park-like setting of Thornebrook Village Center. Show is laid out to take advantage of the ambiance and convenience of Thornebrook Village Square and its stores\, restaurants and other amenities.
URL:https://www.ernestleeart.com/event/36th-annual-art-festival-at-thornebrook/
LOCATION:Shoppes at Thornebrook\, 2441 NW 43rd St\, Gainesville\, 32606\, United States
ATTACH;FMTTYPE=image/png:https://www.ernestleeart.com/wp-content/uploads/2021/09/36th-Annual-Art-Festival-at-Thornebrook.png
END:VEVENT
END:VCALENDAR