BEGIN:VCALENDAR
VERSION:2.0
PRODID:-//Mr. Ernest M. Lee - ECPv5.8.1//NONSGML v1.0//EN
CALSCALE:GREGORIAN
METHOD:PUBLISH
X-WR-CALNAME:Mr. Ernest M. Lee
X-ORIGINAL-URL:https://www.ernestleeart.com
X-WR-CALDESC:Events for Mr. Ernest M. Lee
BEGIN:VTIMEZONE
TZID:America/New_York
BEGIN:DAYLIGHT
TZOFFSETFROM:-0500
TZOFFSETTO:-0400
TZNAME:EDT
DTSTART:20230312T070000
END:DAYLIGHT
BEGIN:STANDARD
TZOFFSETFROM:-0400
TZOFFSETTO:-0500
TZNAME:EST
DTSTART:20231105T060000
END:STANDARD
END:VTIMEZONE
BEGIN:VEVENT
DTSTART;TZID=America/New_York:20231202T100000
DTEND;TZID=America/New_York:20231203T170000
DTSTAMP:20260425T193554
CREATED:20230804T120524Z
LAST-MODIFIED:20230804T121506Z
UID:1250-1701511200-1701622800@www.ernestleeart.com
SUMMARY:2023 UF Stephen C. O'Connell Center Craft Festival
DESCRIPTION:Mrs. Lee will be in her regular spot at this year’s Stephen C. O’Connell Center Craft Festival — Booth 2112 — selling Ernest’s notecards\, prints and other merchandise. Please come by and say hello. Admission is $6 at the door or $5 with coupon.
URL:https://www.ernestleeart.com/event/2023-uf-stephen-c-oconnell-center-craft-festival/
LOCATION:Stephen C. O’Connell Center\, 250 Gale Lemerand Dr\, Gainesville\, FL\, 32611\, United States
END:VEVENT
END:VCALENDAR